BEGIN:VCALENDAR
VERSION:2.0
PRODID:-//Mesindussekkumine - ECPv6.15.13//NONSGML v1.0//EN
CALSCALE:GREGORIAN
METHOD:PUBLISH
X-ORIGINAL-URL:https://sekkumine.mesinduskogu.ee
X-WR-CALDESC:Sündmused Mesindussekkumine jaoks
REFRESH-INTERVAL;VALUE=DURATION:PT1H
X-Robots-Tag:noindex
X-PUBLISHED-TTL:PT1H
BEGIN:VTIMEZONE
TZID:Europe/Helsinki
BEGIN:DAYLIGHT
TZOFFSETFROM:+0200
TZOFFSETTO:+0300
TZNAME:EEST
DTSTART:20220327T010000
END:DAYLIGHT
BEGIN:STANDARD
TZOFFSETFROM:+0300
TZOFFSETTO:+0200
TZNAME:EET
DTSTART:20221030T010000
END:STANDARD
BEGIN:DAYLIGHT
TZOFFSETFROM:+0200
TZOFFSETTO:+0300
TZNAME:EEST
DTSTART:20230326T010000
END:DAYLIGHT
BEGIN:STANDARD
TZOFFSETFROM:+0300
TZOFFSETTO:+0200
TZNAME:EET
DTSTART:20231029T010000
END:STANDARD
BEGIN:DAYLIGHT
TZOFFSETFROM:+0200
TZOFFSETTO:+0300
TZNAME:EEST
DTSTART:20240331T010000
END:DAYLIGHT
BEGIN:STANDARD
TZOFFSETFROM:+0300
TZOFFSETTO:+0200
TZNAME:EET
DTSTART:20241027T010000
END:STANDARD
END:VTIMEZONE
BEGIN:VEVENT
DTSTART;TZID=Europe/Helsinki:20230701T110000
DTEND;TZID=Europe/Helsinki:20230701T160000
DTSTAMP:20260421T020754
CREATED:20240606T161851Z
LAST-MODIFIED:20240606T161851Z
UID:10000015-1688209200-1688227200@sekkumine.mesinduskogu.ee
SUMMARY:Saaremaa Meetootjate Ühingu teabepäev – 01.07.2023
DESCRIPTION:Saaremaa Meetootjate Ühingu korraldusel toimub Saaremaal\, Uuemõisa mesi OÜ ruumides Tornimäel \n\n\n\nMesinike teabepäev \n\n\n\nTeabepäeval osalemiseks on vajalik eelregistreerimine  SIINTeabepäev on osalejatele tasuta \n\n\n\n01.07.2023 \n\n\n\nPäevakava:11.00 – 11.15 Kogunemine11.15 – 12.45 Ülevaade mesilaspere bioloogiast\, emakasvatuse inventarist ja meetoditest\, sh Nicot meetod. Emakasvatuskalendri vajalikkus. Urmo ja Valli Jõeäär Uuemõisa Mesi mesinikud12.45 – 13.30 Energiapaus13.30 – 15.00 Praktikad kahes grupis: Ammpere (sh stardipere) ettevalmistamine. Vageldamine ja vageldatud kuppude andmine stardiperesse. Kuppude puuristamine ja panemine inkubaatorisse. Paarumistarude moodustamine. Mesilasemade märgistamise harjutus leskedel.15.00 – 15.45 Kokkuvõtlik arutelu ja vastamine küsimustele. Urmo ja Valli Jõeäär \n\n\n\nUrmo ja Valli Jõeäär on Saaremaa Meetootjate Ühingu liikmed ja MTÜ Alustame Algusest koolitajad. \n\n\n\nTäpsem info Urmo ja Valli Jõeäär tel 56600238 \n\n\n\n\n\n\nVaated: 151
URL:https://sekkumine.mesinduskogu.ee/teabepaev/saaremaa-meetootjate-uhingu-teabepaev-01-07-2023/
LOCATION:Uuemõisa Mesi\, Tornimäe\, Eesti
CATEGORIES:Piirkondlikud teabepäevad
ORGANIZER;CN="Saaremaa Meetootjate %C3%9Ching":MAILTO:meetootjad@gmail.com
END:VEVENT
BEGIN:VEVENT
DTSTART;TZID=Europe/Helsinki:20230708T113000
DTEND;TZID=Europe/Helsinki:20230708T160000
DTSTAMP:20260421T020754
CREATED:20240606T162609Z
LAST-MODIFIED:20240606T172148Z
UID:10000016-1688815800-1688832000@sekkumine.mesinduskogu.ee
SUMMARY:Hiiumaa Mesinike Seltsi teabepäev – 08.07.2023
DESCRIPTION:Hiiumaa Mesinike Seltsi korraldusel toimub Hiiumaal\, Suuremõisas \n\n\n\nMesinike teabepäev \n\n\n\nTeabepäeval osalemiseks on vajalik eelregistreerimine  SIINTeabepäev on osalejatele tasuta \n\n\n\n08.07.2023 \n\n\n\nPäevakava:11.45 – 12.00 Kogunemine12.00 – 13.30 Varroos ja selle tõrjeskeemid mesilaspere tervise toetamiseks. Hagbard Räis13.30 – 14.00 Energiapaus14.00 – 15.30 Proovide kogumine\, labori vastuste tõlgendamine ja vajalikud tegevused mesilaspere tabandumise korral ameerika haudmemädanikku (AHM). Hagbard Räis15.30 – 16.00 Diskussioon ja vastamine tekkinud küsimustele. \n\n\n\nTäpsem info Ly Kokla tel 5228920 \n\n\n\nMesindusinventari tuleb pakkuma Metsatuka mesila\, info ja ettetellimine  +372 5647 3549 Andrus \n\n\n\n\n\n\nVaated: 151
URL:https://sekkumine.mesinduskogu.ee/teabepaev/hiiumaa-mesinike-seltsi-teabepaev-08-07-2023/
LOCATION:Suuremõisa\, Suuremõisa\, Hiiumaa\, Eesti
CATEGORIES:Piirkondlikud teabepäevad
ORGANIZER;CN="Hiiumaa Mesinike Selts":MAILTO:hmsjuhatus@googlegroups.com
END:VEVENT
BEGIN:VEVENT
DTSTART;TZID=Europe/Helsinki:20230722T110000
DTEND;TZID=Europe/Helsinki:20230722T150000
DTSTAMP:20260421T020754
CREATED:20240606T172754Z
LAST-MODIFIED:20240606T172754Z
UID:10000017-1690023600-1690038000@sekkumine.mesinduskogu.ee
SUMMARY:Tallinna Mesinike Seltsi teabepäev – 22.07.2023
DESCRIPTION:Tallinna Mesinike Selts korraldab\, väljasõiduga Vainu talu mesilas\, Rutja küla\, Haljala vald Lääne-Virumaal \n\n\n\nMesinike teabepäev \n\n\n\nTeabepäeval osalemiseks on vajalik eelregistreerimine  SIINTeabepäev on osalejatele tasuta \n\n\n\n22.07.2023 \n\n\n\nPäevakava:11.00 – 12.30 Jätkusuutliku väiketootmise taluruumi kujundamine ja loomine nullist sajani.   Priit Nõgisto ja Jane Pulver Vainu talu mesinikud12.30 – 13.30 Energiapaus13.30 – 15.00 Mesindustegevust toetavad vähelevinud marja- ja puuviljakultuurid Vainu talus. Priit Nõgisto ja Jane Pulver \n\n\n\nTäpsem info Erki Naumanis tel 5140710 \n\n\n\n\n\n\nVaated: 151
URL:https://sekkumine.mesinduskogu.ee/teabepaev/tallinna-mesinike-seltsi-teabepaev-22-07-2023/
LOCATION:Vainu talu mesila\, Vainu mesila\, Rutja\, Lääne-Virumaa\, Eesti
CATEGORIES:Piirkondlikud teabepäevad
ORGANIZER;CN="Tallinna Mesinike Selts":MAILTO:tallinnamesindus@gmail.com
END:VEVENT
BEGIN:VEVENT
DTSTART;TZID=Europe/Helsinki:20230726T100000
DTEND;TZID=Europe/Helsinki:20230726T140000
DTSTAMP:20260421T020754
CREATED:20240606T174353Z
LAST-MODIFIED:20240606T174353Z
UID:10000018-1690365600-1690380000@sekkumine.mesinduskogu.ee
SUMMARY:MTÜ Alustame Algusest teabepäev Võrus – 26.07.2023
DESCRIPTION:MTÜ Alustame Algusest korraldusel toimub Kütiorus Võrumaal (Puna-Miili talu)\, Võru maakonnas \n\n\n\nMesinike teabepäev \n\n\n\nTeabepäeval osalemiseks on vajalik eelregistreerimine  SIINTeabepäev on osalejatele tasuta. GRUPP on komplekteeritud! \n\n\n\n26.07.2023 \n\n\n\nPäevakava:10.00 – 10.15 Kogunemine10.15 – 11.45 Mee -ja  meesaaduste väärindamine. Jaan Pitsi11.45 – 12.30 Energiapaus12.30 – 14.00 Kärgedelt vaha sulatus ja selle kasutamine. Jaan Pitsi \n\n\n\nJaan Pitsi on MTÜ Alustame Algusest koolitaja. \n\n\n\nTäpsem info Marianne Rosenfeld tel 5029006 \n\n\n\n\nVaated: 151
URL:https://sekkumine.mesinduskogu.ee/teabepaev/mtu-alustame-algusest-teabepaev-26-07-2023/
LOCATION:Saaremaa
CATEGORIES:Piirkondlikud teabepäevad
ORGANIZER;CN="Alustame Algusest MT%C3%9C":MAILTO:alustamealgusest@gmail.com
END:VEVENT
END:VCALENDAR