BEGIN:VCALENDAR
VERSION:2.0
PRODID:-//Mesindussekkumine - ECPv6.15.13//NONSGML v1.0//EN
CALSCALE:GREGORIAN
METHOD:PUBLISH
X-WR-CALNAME:Mesindussekkumine
X-ORIGINAL-URL:https://sekkumine.mesinduskogu.ee
X-WR-CALDESC:Sündmused Mesindussekkumine jaoks
REFRESH-INTERVAL;VALUE=DURATION:PT1H
X-Robots-Tag:noindex
X-PUBLISHED-TTL:PT1H
BEGIN:VTIMEZONE
TZID:Europe/Helsinki
BEGIN:DAYLIGHT
TZOFFSETFROM:+0200
TZOFFSETTO:+0300
TZNAME:EEST
DTSTART:20220327T010000
END:DAYLIGHT
BEGIN:STANDARD
TZOFFSETFROM:+0300
TZOFFSETTO:+0200
TZNAME:EET
DTSTART:20221030T010000
END:STANDARD
BEGIN:DAYLIGHT
TZOFFSETFROM:+0200
TZOFFSETTO:+0300
TZNAME:EEST
DTSTART:20230326T010000
END:DAYLIGHT
BEGIN:STANDARD
TZOFFSETFROM:+0300
TZOFFSETTO:+0200
TZNAME:EET
DTSTART:20231029T010000
END:STANDARD
BEGIN:DAYLIGHT
TZOFFSETFROM:+0200
TZOFFSETTO:+0300
TZNAME:EEST
DTSTART:20240331T010000
END:DAYLIGHT
BEGIN:STANDARD
TZOFFSETFROM:+0300
TZOFFSETTO:+0200
TZNAME:EET
DTSTART:20241027T010000
END:STANDARD
END:VTIMEZONE
BEGIN:VEVENT
DTSTART;TZID=Europe/Helsinki:20230909T110000
DTEND;TZID=Europe/Helsinki:20230909T143000
DTSTAMP:20260420T231345
CREATED:20240606T185555Z
LAST-MODIFIED:20240606T185555Z
UID:10000025-1694257200-1694269800@sekkumine.mesinduskogu.ee
SUMMARY:Mesinike teabepäev Karksi-Nuia Meefestivali raames – 09.09.2023
DESCRIPTION:Eesti Mesinike Liidu korraldusel toimub Karksi-Nuia Kultuurikeskuse suures saalis\, Karksi-Nuia Meefestivali raames \n\n\n\nMesinike teabepäev \n\n\n\nTeabepäeval osalemiseks on vajalik eelregistreerimine  SIINTeabepäev on osalejatele tasuta \n\n\n\n09.09.2023 \n\n\n\nPäevakava:11.00 – 12.30 Hilissuviste mesilasperede ettevalmistamine edukaks talvitumiseks.  Jorma ÕigusUsaldusmesinikud annavad mesinikele nõu ja aitavad mesilashaigusi tõrjuda.  Jorma Õigus12.30 – 13.15 Mesilasperede terviseriskid ja haigused suurendavad talvekadusid.  Aleksander Kilk13.15 – 14.00 Meekvaliteet – juhiseid mesinikule ja tarbijale.  Anna Aunap14.00 – 14.45 Mee ja teiste mesindussaaduste tervistav mõju.  Astrid Oolberg \n\n\n\nInfo Aleksander Kilk 5293589 \n\n\n\n\n\n\nVaated: 151
URL:https://sekkumine.mesinduskogu.ee/teabepaev/eesti-mesinike-liidu-teabepaev-09-09-2023/
LOCATION:Karksi Nuia\, Karksi-Nuia Kultuurikeskus\, Karksi-Nuia\, Viljandimaa\, Eesti
CATEGORIES:Piirkondlikud teabepäevad
ORGANIZER;CN="Eesti Mesinike Liit":MAILTO:info@mesinikeliit.ee
END:VEVENT
BEGIN:VEVENT
DTSTART;TZID=Europe/Helsinki:20230930T110000
DTEND;TZID=Europe/Helsinki:20230930T153000
DTSTAMP:20260420T231345
CREATED:20240606T190108Z
LAST-MODIFIED:20240606T190108Z
UID:10000026-1696071600-1696087800@sekkumine.mesinduskogu.ee
SUMMARY:Eesti Mesinike Liidu teabepäev – 30.09.2023
DESCRIPTION:Eesti Mesinike Liidu korraldusel toimub Mesila talus\, Habaja alevikus\, Kose vallas\, Harjumaal \n\n\n\nMesinike teabepäev \n\n\n\nTeabepäeval osalemiseks on vajalik eelregistreerimine  SIINTeabepäev on osalejatele tasuta \n\n\n\n30.09.2023 \n\n\n\n11.00 – 11.45 Kärjemajandus\, kärgede sorteerimine\, heledad-tumedad kärjed\, ladustamine talveks. Sergei Kozlov11.45 – 13.15 Kärgede sulatamine\, kärjeraamide desinfitseerimine. Vaha kvaliteet. Sergei Kozlov13.15 – 13.45 Energiapaus.13.45 – 15.15 Kärjepõhjade valmistamine. Sergei Kozlov \n\n\n\nInfo Ülo Lippa tel 5230803 \, Aleksander Kilk tel 5293589 \n\n\n\n\nVaated: 151
URL:https://sekkumine.mesinduskogu.ee/teabepaev/eesti-mesinike-liidu-teabepaev-30-09-2023/
LOCATION:Saaremaa
CATEGORIES:Piirkondlikud teabepäevad
ORGANIZER;CN="Eesti Mesinike Liit":MAILTO:info@mesinikeliit.ee
END:VEVENT
BEGIN:VEVENT
DTSTART;TZID=Europe/Helsinki:20230930T113000
DTEND;TZID=Europe/Helsinki:20230930T160000
DTSTAMP:20260420T231345
CREATED:20240606T190649Z
LAST-MODIFIED:20240606T190649Z
UID:10000027-1696073400-1696089600@sekkumine.mesinduskogu.ee
SUMMARY:Hiiumaa Mesinike Seltsi teabepäev – 30.09.2023
DESCRIPTION:Hiiumaa Mesinike Seltsi korraldusel toimub Hiiumaal\, Palade Põhikoolis\, Palade külas \n\n\n\nMesinike teabepäev \n\n\n\nTeabepäeval osalemiseks on vajalik eelregistreerimine  SIINTeabepäev on osalejatele tasuta \n\n\n\n30.09.2023 \n\n\n\nPäevakava:11.45 – 12.00 Kogunemine12.00 – 12.45 Mee ja mesindussaaduste turundamine. Sirje Mölder12.45 – 13.30 Mee- ja mesindussaaduste kasutamise võimalustest. Sirje Mölder13.30 – 14.00 Energiapaus14.00 – 14.45 Mee- ja mesindussaaduste kasutamise võimalusest. Sirje Mölder14.45 – 15.30 Varroositõrje olulisus ja tõrjemeetodite kasutamise kogemustest. Mesilaspere ettevalmistamine ja lisasöötmine talveks. Arvi Mölder15.30 – 16.00 Diskussioon ja vastamine tekkinud küsimustele. \n\n\n\nSirje ja Arvi Mölder on MTÜ Alustame Algusest koolitajad. \n\n\n\nTäpsem info Katri Kaar tel 56479752 \n\n\n\n\n\n\nVaated: 151
URL:https://sekkumine.mesinduskogu.ee/teabepaev/hiiumaa-mesinike-seltsi-teabepaev-30-09-2023/
LOCATION:Palade\, Palade Põhikool\, Palade\, Hiiumaa\, 92310\, Eesti
CATEGORIES:Piirkondlikud teabepäevad
ORGANIZER;CN="Hiiumaa Mesinike Selts":MAILTO:hmsjuhatus@googlegroups.com
END:VEVENT
END:VCALENDAR