BEGIN:VCALENDAR
VERSION:2.0
PRODID:-//Mesindussekkumine - ECPv6.15.13//NONSGML v1.0//EN
CALSCALE:GREGORIAN
METHOD:PUBLISH
X-WR-CALNAME:Mesindussekkumine
X-ORIGINAL-URL:https://sekkumine.mesinduskogu.ee
X-WR-CALDESC:Sündmused Mesindussekkumine jaoks
REFRESH-INTERVAL;VALUE=DURATION:PT1H
X-Robots-Tag:noindex
X-PUBLISHED-TTL:PT1H
BEGIN:VTIMEZONE
TZID:Europe/Helsinki
BEGIN:DAYLIGHT
TZOFFSETFROM:+0200
TZOFFSETTO:+0300
TZNAME:EEST
DTSTART:20220327T010000
END:DAYLIGHT
BEGIN:STANDARD
TZOFFSETFROM:+0300
TZOFFSETTO:+0200
TZNAME:EET
DTSTART:20221030T010000
END:STANDARD
BEGIN:DAYLIGHT
TZOFFSETFROM:+0200
TZOFFSETTO:+0300
TZNAME:EEST
DTSTART:20230326T010000
END:DAYLIGHT
BEGIN:STANDARD
TZOFFSETFROM:+0300
TZOFFSETTO:+0200
TZNAME:EET
DTSTART:20231029T010000
END:STANDARD
BEGIN:DAYLIGHT
TZOFFSETFROM:+0200
TZOFFSETTO:+0300
TZNAME:EEST
DTSTART:20240331T010000
END:DAYLIGHT
BEGIN:STANDARD
TZOFFSETFROM:+0300
TZOFFSETTO:+0200
TZNAME:EET
DTSTART:20241027T010000
END:STANDARD
END:VTIMEZONE
BEGIN:VEVENT
DTSTART;TZID=Europe/Helsinki:20231103T140000
DTEND;TZID=Europe/Helsinki:20231104T140000
DTSTAMP:20260420T202916
CREATED:20240606T195642Z
LAST-MODIFIED:20240606T195642Z
UID:10000032-1699020000-1699106400@sekkumine.mesinduskogu.ee
SUMMARY:Eesti Kutseliste Mesinike Ühingu teabepäevad – 03. ja 04.11.2023
DESCRIPTION:Eesti Kutseliste Mesinike Ühing korraldab Maria talus Kõpu külas Pärnumaal \n\n\n\nKutseliste mesinike teabepäevad \n\n\n\nTeabepäevadel osalemiseks on vajalik eelregistreerimine 28. oktoobriks EKMÜ kaudu tel 56884696NB: Majutus on tasuline (25€) ning seda saab broneerida EKMÜ kaudu tel 56884696 \n\n\n\n03.11.2023 \n\n\n\nPäevakava reedel 03.11.2023:14.00 – 14.45 Elu ilma meemesilasteta on hea. Marika Mänd14.45 – 15.30 Mee DNA-metoodika (võrdlusmoment NMRga). Kairi Raime15.30 – 16.15 Mesilaste DNA uuringu tulemused. Kairi Raime16.15 – 16.30 Energiapaus16.30 – 17.15 Karude arvukuse muutus\, kas probleem või mitte? Jaanus Remm17.15 – 18.00 Karude kõrge arvukusega toimetulek. Tõnu Talvi18.00 – 19.00 Õhtusöök \n\n\n\n04.11.2023 \n\n\n\nPäevakava laupäeval 04.11.2023:10.00 – 10.45 Eesti meedia toimimine ja uudiste valmimine. Janno Toots10.45 – 11.30 Mesinduse teemad: kuidas jõuda meediasse. Janno Toots11.30 – 12.15 Praktiline ülesanne (arutelu/ajurünnak) Janno Toots12.15 – 13.00 Energiapaus13.00 – 13.45 Euroopa meeturu olukorrast (EKMÜ sees tekkinud töörühm “CLEAN UP THE HONEYMARKET”) Mario Kalvet13.45 – 14.00 Lõpetamine \n\n\n\nInfo Sigmar Naudi tel 56884696 \n\n\n\n\nVaated: 151
URL:https://sekkumine.mesinduskogu.ee/teabepaev/eesti-kutseliste-mesinike-uhingu-teabepaevad-03-04-11-2023/
LOCATION:Saaremaa
CATEGORIES:Piirkondlikud teabepäevad
ORGANIZER;CN="EKM%C3%9C":MAILTO:info@mesinikud.ee
END:VEVENT
BEGIN:VEVENT
DTSTART;TZID=Europe/Helsinki:20231118T113000
DTEND;TZID=Europe/Helsinki:20231118T163000
DTSTAMP:20260420T202916
CREATED:20240606T200223Z
LAST-MODIFIED:20240606T200223Z
UID:10000033-1700307000-1700325000@sekkumine.mesinduskogu.ee
SUMMARY:Eesti Mesinike Liidu õppe- ja teabepäev – 18.11.2023
DESCRIPTION:Eesti Mesinike Liidu korraldusel toimub Hotell Dzingel\, Männiku tee 89 Tallinn \n\n\n\nMesinike teabepäev \n\n\n\nTeabepäeval osalemiseks on vajalik eelregistreerimine  SIINTeabepäev on osalejatele tasuta. Lõuna on tasuline. \n\n\n\n18.11.2023 \n\n\n\nPäevakava:11.30 – 13.00 Eesti meemesilaste alamliikide geneetilise uuringu tulemused. Kairi Raime PhD (Filipe Pereira\, PhD)13.00 – 13.30 Aasta Mesiniku ja Aasta Mesilaste Sõbra valimine13.30 – 14.15 Lõunapaus14.15 – 15.00 DNA analüüs mee koostise ja võltsingute tuvastamiseks. Kairi Raime PhD15.00 – 16.30 Varroalesta tõrje erinevad võimalused tänapäeval. Aimar Lauge16.30 Lõpetamine \n\n\n\nInfo Andres Tamla tel 56501056 \, Aleksander Kilk tel 5293589 \n\n\n\n\n\n\nVaated: 151
URL:https://sekkumine.mesinduskogu.ee/teabepaev/eesti-mesinike-liidu-teabepaev-18-11-2023/
LOCATION:Dzingel\, Hotell Dzingel\, Tallinn\, Harjumaa\, 11213\, Eesti
CATEGORIES:Piirkondlikud teabepäevad
ORGANIZER;CN="Eesti Mesinike Liit":MAILTO:info@mesinikeliit.ee
END:VEVENT
END:VCALENDAR