BEGIN:VCALENDAR
VERSION:2.0
PRODID:-//Mesindussekkumine - ECPv6.15.13//NONSGML v1.0//EN
CALSCALE:GREGORIAN
METHOD:PUBLISH
X-ORIGINAL-URL:https://sekkumine.mesinduskogu.ee
X-WR-CALDESC:Sündmused Mesindussekkumine jaoks
REFRESH-INTERVAL;VALUE=DURATION:PT1H
X-Robots-Tag:noindex
X-PUBLISHED-TTL:PT1H
BEGIN:VTIMEZONE
TZID:Europe/Helsinki
BEGIN:DAYLIGHT
TZOFFSETFROM:+0200
TZOFFSETTO:+0300
TZNAME:EEST
DTSTART:20230326T010000
END:DAYLIGHT
BEGIN:STANDARD
TZOFFSETFROM:+0300
TZOFFSETTO:+0200
TZNAME:EET
DTSTART:20231029T010000
END:STANDARD
BEGIN:DAYLIGHT
TZOFFSETFROM:+0200
TZOFFSETTO:+0300
TZNAME:EEST
DTSTART:20240331T010000
END:DAYLIGHT
BEGIN:STANDARD
TZOFFSETFROM:+0300
TZOFFSETTO:+0200
TZNAME:EET
DTSTART:20241027T010000
END:STANDARD
BEGIN:DAYLIGHT
TZOFFSETFROM:+0200
TZOFFSETTO:+0300
TZNAME:EEST
DTSTART:20250330T010000
END:DAYLIGHT
BEGIN:STANDARD
TZOFFSETFROM:+0300
TZOFFSETTO:+0200
TZNAME:EET
DTSTART:20251026T010000
END:STANDARD
END:VTIMEZONE
BEGIN:VEVENT
DTSTART;TZID=Europe/Helsinki:20240406T120000
DTEND;TZID=Europe/Helsinki:20240406T163000
DTSTAMP:20260420T132218
CREATED:20240515T144723Z
LAST-MODIFIED:20240607T044020Z
UID:10000001-1712404800-1712421000@sekkumine.mesinduskogu.ee
SUMMARY:Kevadine teabepäev mesinikele – 06.04.2024
DESCRIPTION:Eesti Mesinike Liidu korraldusel toimub Türi Kultuurikeskuses\, Hariduse tänav 1\, Türi linn \n\n\n\nMesinike teabepäev \n\n\n\nTeabepäeval osalemiseks on vajalik eelregistreerimine  SIINTeabepäev on osalejatele tasuta. Lõuna on tasuline. \n\n\n\n06.04.2024 \n\n\n\n12.00 – 12.45 Olukord meeturul\, meevõltsingud ja võitlus kohaliku mesinduse kaitseks. Mario Kalvet12.45 – 13.30 Kuidas suurendada tarbijate huvi mee vastu? Krista Kivisalu13.30 – 14.15 Lõunapaus14.15 – 15.00 Mesilaste kogutava õietolmu värviskaala ja info\, mida see korjemaa mitmekesisuse kohta annab. Reet Karise15.00 – 15.45 Nosematoosi levikust ja ohust kevadel mesilasperede tervisele\, elule ja meesaagile. Sigmar Naudi15.45 – 16.30 Uudiseid Põhja- ja Baltimaade mesinduskonverentsilt. Aleksander Kilk \n\n\n\nInfo Aleksander Kilk tel 5293589 \n\n\n\n\nVaated: 150
URL:https://sekkumine.mesinduskogu.ee/teabepaev/kevadine-teabepaev-mesinikele-06-04-2024/
LOCATION:Türi Kultuurikeskus\, Türi Kultuurikeskus\, Hariduse tänav 1\, Türi linn
CATEGORIES:Piirkondlikud teabepäevad
ORGANIZER;CN="Eesti Mesinike Liit":MAILTO:info@mesinikeliit.ee
END:VEVENT
END:VCALENDAR