BEGIN:VCALENDAR
VERSION:2.0
PRODID:-//Mesindussekkumine - ECPv6.15.13//NONSGML v1.0//EN
CALSCALE:GREGORIAN
METHOD:PUBLISH
X-ORIGINAL-URL:https://sekkumine.mesinduskogu.ee
X-WR-CALDESC:Sündmused Mesindussekkumine jaoks
REFRESH-INTERVAL;VALUE=DURATION:PT1H
X-Robots-Tag:noindex
X-PUBLISHED-TTL:PT1H
BEGIN:VTIMEZONE
TZID:Europe/Helsinki
BEGIN:DAYLIGHT
TZOFFSETFROM:+0200
TZOFFSETTO:+0300
TZNAME:EEST
DTSTART:20220327T010000
END:DAYLIGHT
BEGIN:STANDARD
TZOFFSETFROM:+0300
TZOFFSETTO:+0200
TZNAME:EET
DTSTART:20221030T010000
END:STANDARD
BEGIN:DAYLIGHT
TZOFFSETFROM:+0200
TZOFFSETTO:+0300
TZNAME:EEST
DTSTART:20230326T010000
END:DAYLIGHT
BEGIN:STANDARD
TZOFFSETFROM:+0300
TZOFFSETTO:+0200
TZNAME:EET
DTSTART:20231029T010000
END:STANDARD
BEGIN:DAYLIGHT
TZOFFSETFROM:+0200
TZOFFSETTO:+0300
TZNAME:EEST
DTSTART:20240331T010000
END:DAYLIGHT
BEGIN:STANDARD
TZOFFSETFROM:+0300
TZOFFSETTO:+0200
TZNAME:EET
DTSTART:20241027T010000
END:STANDARD
END:VTIMEZONE
BEGIN:VEVENT
DTSTART;TZID=Europe/Helsinki:20230415T120000
DTEND;TZID=Europe/Helsinki:20230415T160000
DTSTAMP:20260421T074939
CREATED:20240605T191113Z
LAST-MODIFIED:20240605T194522Z
UID:10000007-1681560000-1681574400@sekkumine.mesinduskogu.ee
SUMMARY:Eesti Mesinike Liidu õppe- ja teabepäev – 15.04.2023
DESCRIPTION:Eesti Mesinike Liidu korraldusel toimub Türi Kultuurikeskuses\, Hariduse tänav 1\, Türi linn \n\n\n\nMesinike teabepäev \n\n\n\nTeabepäeval osalemiseks on vajalik eelregistreerimine  SIINTeabepäev on osalejatele tasuta \n\n\n\n08.04.2023 \n\n\n\nPäevakava:12.00 – 12.45 Mee DNA uuringud avavad saladustekambri uksi. Kairi Raime12.45 – 13.30 Uudiseid Põhja- ja Baltimaade mesinduskonverentsilt ja Euroopa mesindusest. Aleksander Kilk13.30 – 14.15 Lõunapaus14.15 – 15.00 Mesindussekkumise tegevuskava toetab Eesti mesinduse arendamist. Eesti mesilaste talvekadude uuring COLOSS küsitluse kaudu. Aivar Raudmets15.00 – 15.45 Eestis meetarbimise ja –turustamise olukord ning vajalikud arendustegevused. Riin Liht \n\n\n\nInfo Aleksander Kilk 5293589 ja Ülo Lippa 5230803 \n\n\n\n\n\n\nVaated: 151
URL:https://sekkumine.mesinduskogu.ee/teabepaev/eesti-mesinike-liidu-oppe-ja-teabepaev-15-04-2023/
LOCATION:Türi Kultuurikeskus\, Türi Kultuurikeskus\, Hariduse tänav 1\, Türi linn
CATEGORIES:Piirkondlikud teabepäevad
ORGANIZER;CN="Eesti Mesinike Liit":MAILTO:info@mesinikeliit.ee
END:VEVENT
END:VCALENDAR