BEGIN:VCALENDAR
VERSION:2.0
PRODID:-//Mesindussekkumine - ECPv6.15.13//NONSGML v1.0//EN
CALSCALE:GREGORIAN
METHOD:PUBLISH
X-ORIGINAL-URL:https://sekkumine.mesinduskogu.ee
X-WR-CALDESC:Sündmused Mesindussekkumine jaoks
REFRESH-INTERVAL;VALUE=DURATION:PT1H
X-Robots-Tag:noindex
X-PUBLISHED-TTL:PT1H
BEGIN:VTIMEZONE
TZID:Europe/Helsinki
BEGIN:DAYLIGHT
TZOFFSETFROM:+0200
TZOFFSETTO:+0300
TZNAME:EEST
DTSTART:20220327T010000
END:DAYLIGHT
BEGIN:STANDARD
TZOFFSETFROM:+0300
TZOFFSETTO:+0200
TZNAME:EET
DTSTART:20221030T010000
END:STANDARD
BEGIN:DAYLIGHT
TZOFFSETFROM:+0200
TZOFFSETTO:+0300
TZNAME:EEST
DTSTART:20230326T010000
END:DAYLIGHT
BEGIN:STANDARD
TZOFFSETFROM:+0300
TZOFFSETTO:+0200
TZNAME:EET
DTSTART:20231029T010000
END:STANDARD
BEGIN:DAYLIGHT
TZOFFSETFROM:+0200
TZOFFSETTO:+0300
TZNAME:EEST
DTSTART:20240331T010000
END:DAYLIGHT
BEGIN:STANDARD
TZOFFSETFROM:+0300
TZOFFSETTO:+0200
TZNAME:EET
DTSTART:20241027T010000
END:STANDARD
END:VTIMEZONE
BEGIN:VEVENT
DTSTART;TZID=Europe/Helsinki:20230425T180000
DTEND;TZID=Europe/Helsinki:20230425T203000
DTSTAMP:20260421T074939
CREATED:20240605T192041Z
LAST-MODIFIED:20240605T194553Z
UID:10000008-1682445600-1682454600@sekkumine.mesinduskogu.ee
SUMMARY:Eesti meetootjate teabepäev veebis – 25.04.2023
DESCRIPTION:MTÜ Eesti Kutseliste Mesinike Ühingu korraldusel toimub veebis \n\n\n\nMesinike teabepäev \n\n\n\nTeabepäeval osalemiseks on vajalik eelregistreerimine  SIINTeabepäev on osalejatele tasuta \n\n\n\n25.04.2023 \n\n\n\n18.00 – 18.45 Ameerika Haudmemädaniku vaktsiin. Dalial Freitak Grazi Ülikooli kaasprofessor Austrias18.45 – 19.30 Ülevaade meetootjate õppereisist Taanis. Jaanus Tull19.30 – 19.45 Paus19.45 – 20.30 Uued ohud Eesti mesinduses. Risto Raimets Eesti Maaülikooli teadur \n\n\n\nVeebikoolituse link saadetakse registreerunud osalejatele üks päev enne teabepäeva toimumist. \n\n\n\nInfo Sigmar Naudi 56884696 \n\n\n\n\n\n\nVaated: 151
URL:https://sekkumine.mesinduskogu.ee/teabepaev/eesti-meetootjate-teabepaev-veebis-25-04-2023/
LOCATION:Saaremaa
CATEGORIES:Piirkondlikud teabepäevad
ORGANIZER;CN="EKM%C3%9C":MAILTO:info@mesinikud.ee
END:VEVENT
END:VCALENDAR