BEGIN:VCALENDAR
VERSION:2.0
PRODID:-//Mesindussekkumine - ECPv6.15.13//NONSGML v1.0//EN
CALSCALE:GREGORIAN
METHOD:PUBLISH
X-WR-CALNAME:Mesindussekkumine
X-ORIGINAL-URL:https://sekkumine.mesinduskogu.ee
X-WR-CALDESC:Sündmused Mesindussekkumine jaoks
REFRESH-INTERVAL;VALUE=DURATION:PT1H
X-Robots-Tag:noindex
X-PUBLISHED-TTL:PT1H
BEGIN:VTIMEZONE
TZID:Europe/Helsinki
BEGIN:DAYLIGHT
TZOFFSETFROM:+0200
TZOFFSETTO:+0300
TZNAME:EEST
DTSTART:20220327T010000
END:DAYLIGHT
BEGIN:STANDARD
TZOFFSETFROM:+0300
TZOFFSETTO:+0200
TZNAME:EET
DTSTART:20221030T010000
END:STANDARD
BEGIN:DAYLIGHT
TZOFFSETFROM:+0200
TZOFFSETTO:+0300
TZNAME:EEST
DTSTART:20230326T010000
END:DAYLIGHT
BEGIN:STANDARD
TZOFFSETFROM:+0300
TZOFFSETTO:+0200
TZNAME:EET
DTSTART:20231029T010000
END:STANDARD
BEGIN:DAYLIGHT
TZOFFSETFROM:+0200
TZOFFSETTO:+0300
TZNAME:EEST
DTSTART:20240331T010000
END:DAYLIGHT
BEGIN:STANDARD
TZOFFSETFROM:+0300
TZOFFSETTO:+0200
TZNAME:EET
DTSTART:20241027T010000
END:STANDARD
END:VTIMEZONE
BEGIN:VEVENT
DTSTART;TZID=Europe/Helsinki:20230527T110000
DTEND;TZID=Europe/Helsinki:20230527T160000
DTSTAMP:20260421T060819
CREATED:20240606T044204Z
LAST-MODIFIED:20240606T044206Z
UID:10000011-1685185200-1685203200@sekkumine.mesinduskogu.ee
SUMMARY:Apiteraapia päev Kädval – 27.05.2023
DESCRIPTION:Raplamaa Mesinike Seltsi ja MTÜ Alustame Algusest korraldusel toimub Kädva seltsimajas\, Türi vallas \n\n\n\nMesinike teabepäev \n\n\n\nTeabepäeval osalemiseks on vajalik eelregistreerimine  SIINTeabepäev on osalejatele tasuta \n\n\n\n27.05.2023 \n\n\n\nPäevakava:11.00 – 11.45 Tšehhi ja Slovakkia apiteraapia õpirändelt saadud uusi kogemusi Eha Metsallik MTÜ Alustame Algusest koolitaja.12.00 – 13.30 Nõelamisravist ja teiste mesindussaaduste kasutamisest tervise heaks. dr. Helgi Lilleste nõelraviarst ja pediaater13.30 – 14.00 Energia paus14.00 – 15.30 Miks kasutada mesindussaadusi. Astrid Oolberg proviisor-apteeker15.30 – 16.00 Ülevaade dr. Virgo Mihkelsoo apiteraapia trükistest\, millele järgneb arutelu. Modereerib Eha Metsallik \n\n\n\nTäpsem info Eha Metsallik tel. 5545886 või Viktor Reino tel. 56569013 \n\n\n\n\n\n\nVaated: 151
URL:https://sekkumine.mesinduskogu.ee/teabepaev/apiteraapia-paev-kadval-27-05-2023/
LOCATION:Kädva seltsimaja\, Kädva\, Käru vald\, Järva\, 79213\, Eesti
CATEGORIES:Piirkondlikud teabepäevad
ORGANIZER;CN="Raplamaa mesinike Selts":MAILTO:viktor.reino@gmail.com
END:VEVENT
BEGIN:VEVENT
DTSTART;TZID=Europe/Helsinki:20230527T110000
DTEND;TZID=Europe/Helsinki:20230527T170000
DTSTAMP:20260421T060819
CREATED:20240606T160454Z
LAST-MODIFIED:20240606T160455Z
UID:10000013-1685185200-1685206800@sekkumine.mesinduskogu.ee
SUMMARY:Tallinna Mesinike Seltsi teabepäev – 27.05.2023
DESCRIPTION:Tallinna Mesinike Selts korraldab mesinike teabepäeva väljasõiduga Uuemõisa Mesi mesilasse Saaremaal \n\n\n\nMesinike teabepäev \n\n\n\nTeabepäeval osalemiseks on vajalik eelregistreerimine  SIINTeabepäev on osalejatele tasuta. Osalejate arv on piiratud kuni 14 inimest. Grupp on komplekteeritud! \n\n\n\n27.05.2023 \n\n\n\nPäevakava:11.00 – 12.30 Tootmismesila ülesehitamine ja sellega kaasnevad kadalipud. Valli ja Urmo Jõeäär Uuemõisa Mesi OÜ mesinikud.12.30 – 13.30 Energiapaus13.30 – 15.00 Erinevad mesindustooted ja nende valmistamine. Võimalused\, kuidas mesinduses lisatulu teenida. Valli ja Urmo Jõeäär Uuemõisa Mesi OÜ mesinikud. \n\n\n\nTäpsem info Erki Naumanis tel 5140710 \n\n\n\n\n\n\nVaated: 151
URL:https://sekkumine.mesinduskogu.ee/teabepaev/tallinna-mesinike-seltsi-teabepaev-27-05-2023/
LOCATION:Uuemõisa Mesi\, Tornimäe\, Eesti
CATEGORIES:Piirkondlikud teabepäevad
ORGANIZER;CN="Tallinna Mesinike Selts":MAILTO:tallinnamesindus@gmail.com
END:VEVENT
END:VCALENDAR