BEGIN:VCALENDAR
VERSION:2.0
PRODID:-//Mesindussekkumine - ECPv6.15.13//NONSGML v1.0//EN
CALSCALE:GREGORIAN
METHOD:PUBLISH
X-WR-CALNAME:Mesindussekkumine
X-ORIGINAL-URL:https://sekkumine.mesinduskogu.ee
X-WR-CALDESC:Sündmused Mesindussekkumine jaoks
REFRESH-INTERVAL;VALUE=DURATION:PT1H
X-Robots-Tag:noindex
X-PUBLISHED-TTL:PT1H
BEGIN:VTIMEZONE
TZID:Europe/Helsinki
BEGIN:DAYLIGHT
TZOFFSETFROM:+0200
TZOFFSETTO:+0300
TZNAME:EEST
DTSTART:20220327T010000
END:DAYLIGHT
BEGIN:STANDARD
TZOFFSETFROM:+0300
TZOFFSETTO:+0200
TZNAME:EET
DTSTART:20221030T010000
END:STANDARD
BEGIN:DAYLIGHT
TZOFFSETFROM:+0200
TZOFFSETTO:+0300
TZNAME:EEST
DTSTART:20230326T010000
END:DAYLIGHT
BEGIN:STANDARD
TZOFFSETFROM:+0300
TZOFFSETTO:+0200
TZNAME:EET
DTSTART:20231029T010000
END:STANDARD
BEGIN:DAYLIGHT
TZOFFSETFROM:+0200
TZOFFSETTO:+0300
TZNAME:EEST
DTSTART:20240331T010000
END:DAYLIGHT
BEGIN:STANDARD
TZOFFSETFROM:+0300
TZOFFSETTO:+0200
TZNAME:EET
DTSTART:20241027T010000
END:STANDARD
END:VTIMEZONE
BEGIN:VEVENT
DTSTART;TZID=Europe/Helsinki:20230603T100000
DTEND;TZID=Europe/Helsinki:20230603T150000
DTSTAMP:20260421T044930
CREATED:20240606T044742Z
LAST-MODIFIED:20240606T044742Z
UID:10000012-1685786400-1685804400@sekkumine.mesinduskogu.ee
SUMMARY:Põltsamaa Mesinike Seltsi teabepäev – 03.06.2023
DESCRIPTION:Põltsamaa Mesinike Selts korraldab teabepäeva väljasõiduga kahte mesilasse Läänemaal: Emesi OÜ ja Tamme Mesila OÜ \n\n\n\nMesinike teabepäev \n\n\n\nTeabepäeval osalemiseks on vajalik eelregistreerimine  SIINTeabepäev on osalejatele tasuta \n\n\n\n03.06.2023 \n\n\n\n10.00 – 12.00 Mesilasemadekasvatus väikemesilas. Andres Tamla Emesi OÜ mesinik13.00 – 15.00 Kuidas mesindada mahemesilas? Peeter Kuusksalu Tamme Mesila OÜ mesinik \n\n\n\nTäpsem info Ain Seeder tel. 5250204 ja veebilehel www.poltsamaamesi.eu \n\n\n\n\n\n\nVaated: 151
URL:https://sekkumine.mesinduskogu.ee/teabepaev/poltsamaa-mesinike-seltsi-teabepaev-03-06-2023/
LOCATION:Saaremaa
CATEGORIES:Piirkondlikud teabepäevad
ORGANIZER;CN="P%C3%B5ltsamaa Mesinike Selts":MAILTO:info@poltsamaamesi.eu
END:VEVENT
END:VCALENDAR