BEGIN:VCALENDAR
VERSION:2.0
PRODID:-//Mesindussekkumine - ECPv6.15.13//NONSGML v1.0//EN
CALSCALE:GREGORIAN
METHOD:PUBLISH
X-WR-CALNAME:Mesindussekkumine
X-ORIGINAL-URL:https://sekkumine.mesinduskogu.ee
X-WR-CALDESC:Sündmused Mesindussekkumine jaoks
REFRESH-INTERVAL;VALUE=DURATION:PT1H
X-Robots-Tag:noindex
X-PUBLISHED-TTL:PT1H
BEGIN:VTIMEZONE
TZID:Europe/Helsinki
BEGIN:DAYLIGHT
TZOFFSETFROM:+0200
TZOFFSETTO:+0300
TZNAME:EEST
DTSTART:20220327T010000
END:DAYLIGHT
BEGIN:STANDARD
TZOFFSETFROM:+0300
TZOFFSETTO:+0200
TZNAME:EET
DTSTART:20221030T010000
END:STANDARD
BEGIN:DAYLIGHT
TZOFFSETFROM:+0200
TZOFFSETTO:+0300
TZNAME:EEST
DTSTART:20230326T010000
END:DAYLIGHT
BEGIN:STANDARD
TZOFFSETFROM:+0300
TZOFFSETTO:+0200
TZNAME:EET
DTSTART:20231029T010000
END:STANDARD
BEGIN:DAYLIGHT
TZOFFSETFROM:+0200
TZOFFSETTO:+0300
TZNAME:EEST
DTSTART:20240331T010000
END:DAYLIGHT
BEGIN:STANDARD
TZOFFSETFROM:+0300
TZOFFSETTO:+0200
TZNAME:EET
DTSTART:20241027T010000
END:STANDARD
END:VTIMEZONE
BEGIN:VEVENT
DTSTART;TZID=Europe/Helsinki:20230611T100000
DTEND;TZID=Europe/Helsinki:20230611T140000
DTSTAMP:20260421T044931
CREATED:20240606T161250Z
LAST-MODIFIED:20240606T161250Z
UID:10000014-1686477600-1686492000@sekkumine.mesinduskogu.ee
SUMMARY:Otepää Aiandus- ja Mesindusseltsi ja Elva Mesinike Seltsingu teabepäev – 11.06.2023
DESCRIPTION:Otepää Aianduse ja Mesinduse Seltsi korraldusel toimub Otepääl Jakob Hurda tänav 5\, Otepää AMS-i majas\, Otepää linn\, Otepää vald\, Valga maakond \n\n\n\nMesinike teabepäev \n\n\n\nTeabepäeval osalemiseks on vajalik eelregistreerimine  SIINTeabepäev on osalejatele tasuta \n\n\n\n11.06.2023 \n\n\n\nPäevakava:10.00 – 10.30 Kogunemine ja tervituskohv.10.30 – 11.30 Mesilasemadekasvatamine väikemesilas. Tõnu Hiiemäe Elva mesinike seltsing11.30 – 12.00 Arutelu mesilasemade kasvatamise teemal modereerib Tõnu Hiiemäe12.00 – 12.30 Energiapaus12.30 – 13.30 Sülemlemise ärahoidmine. Tõnu Hiiemäe13.30 – 14.00 Arutelu sülemlemise ärahoidmise teemal modereerib Tõnu Hiiemäe \n\n\n\nInfo Liisa Ruukel tel 5285159 või Tõnu Hiiemäe tel 5049020 \n\n\n\n\n\n\nVaated: 151
URL:https://sekkumine.mesinduskogu.ee/teabepaev/otepaa-aiandus-ja-mesindusseltsi-ja-elva-mesinike-seltsingu-teabepaev-11-06-2023/
LOCATION:Otepää AMS\, J. Hurda 5\, Otepää\, Valga\, 67405\, Eesti
CATEGORIES:Piirkondlikud teabepäevad
ORGANIZER;CN="Otep%C3%A4%C3%A4 Aiandus- ja Mesindusselts":MAILTO:otepaa.ams@gmail.com
END:VEVENT
END:VCALENDAR