BEGIN:VCALENDAR
VERSION:2.0
PRODID:-//Mesindussekkumine - ECPv6.15.13//NONSGML v1.0//EN
CALSCALE:GREGORIAN
METHOD:PUBLISH
X-ORIGINAL-URL:https://sekkumine.mesinduskogu.ee
X-WR-CALDESC:Sündmused Mesindussekkumine jaoks
REFRESH-INTERVAL;VALUE=DURATION:PT1H
X-Robots-Tag:noindex
X-PUBLISHED-TTL:PT1H
BEGIN:VTIMEZONE
TZID:Europe/Helsinki
BEGIN:DAYLIGHT
TZOFFSETFROM:+0200
TZOFFSETTO:+0300
TZNAME:EEST
DTSTART:20220327T010000
END:DAYLIGHT
BEGIN:STANDARD
TZOFFSETFROM:+0300
TZOFFSETTO:+0200
TZNAME:EET
DTSTART:20221030T010000
END:STANDARD
BEGIN:DAYLIGHT
TZOFFSETFROM:+0200
TZOFFSETTO:+0300
TZNAME:EEST
DTSTART:20230326T010000
END:DAYLIGHT
BEGIN:STANDARD
TZOFFSETFROM:+0300
TZOFFSETTO:+0200
TZNAME:EET
DTSTART:20231029T010000
END:STANDARD
BEGIN:DAYLIGHT
TZOFFSETFROM:+0200
TZOFFSETTO:+0300
TZNAME:EEST
DTSTART:20240331T010000
END:DAYLIGHT
BEGIN:STANDARD
TZOFFSETFROM:+0300
TZOFFSETTO:+0200
TZNAME:EET
DTSTART:20241027T010000
END:STANDARD
END:VTIMEZONE
BEGIN:VEVENT
DTSTART;TZID=Europe/Helsinki:20230701T110000
DTEND;TZID=Europe/Helsinki:20230701T160000
DTSTAMP:20260421T033903
CREATED:20240606T161851Z
LAST-MODIFIED:20240606T161851Z
UID:10000015-1688209200-1688227200@sekkumine.mesinduskogu.ee
SUMMARY:Saaremaa Meetootjate Ühingu teabepäev – 01.07.2023
DESCRIPTION:Saaremaa Meetootjate Ühingu korraldusel toimub Saaremaal\, Uuemõisa mesi OÜ ruumides Tornimäel \n\n\n\nMesinike teabepäev \n\n\n\nTeabepäeval osalemiseks on vajalik eelregistreerimine  SIINTeabepäev on osalejatele tasuta \n\n\n\n01.07.2023 \n\n\n\nPäevakava:11.00 – 11.15 Kogunemine11.15 – 12.45 Ülevaade mesilaspere bioloogiast\, emakasvatuse inventarist ja meetoditest\, sh Nicot meetod. Emakasvatuskalendri vajalikkus. Urmo ja Valli Jõeäär Uuemõisa Mesi mesinikud12.45 – 13.30 Energiapaus13.30 – 15.00 Praktikad kahes grupis: Ammpere (sh stardipere) ettevalmistamine. Vageldamine ja vageldatud kuppude andmine stardiperesse. Kuppude puuristamine ja panemine inkubaatorisse. Paarumistarude moodustamine. Mesilasemade märgistamise harjutus leskedel.15.00 – 15.45 Kokkuvõtlik arutelu ja vastamine küsimustele. Urmo ja Valli Jõeäär \n\n\n\nUrmo ja Valli Jõeäär on Saaremaa Meetootjate Ühingu liikmed ja MTÜ Alustame Algusest koolitajad. \n\n\n\nTäpsem info Urmo ja Valli Jõeäär tel 56600238 \n\n\n\n\n\n\nVaated: 151
URL:https://sekkumine.mesinduskogu.ee/teabepaev/saaremaa-meetootjate-uhingu-teabepaev-01-07-2023/
LOCATION:Uuemõisa Mesi\, Tornimäe\, Eesti
CATEGORIES:Piirkondlikud teabepäevad
ORGANIZER;CN="Saaremaa Meetootjate %C3%9Ching":MAILTO:meetootjad@gmail.com
END:VEVENT
END:VCALENDAR