BEGIN:VCALENDAR
VERSION:2.0
PRODID:-//Mesindussekkumine - ECPv6.15.13//NONSGML v1.0//EN
CALSCALE:GREGORIAN
METHOD:PUBLISH
X-ORIGINAL-URL:https://sekkumine.mesinduskogu.ee
X-WR-CALDESC:Sündmused Mesindussekkumine jaoks
REFRESH-INTERVAL;VALUE=DURATION:PT1H
X-Robots-Tag:noindex
X-PUBLISHED-TTL:PT1H
BEGIN:VTIMEZONE
TZID:Europe/Helsinki
BEGIN:DAYLIGHT
TZOFFSETFROM:+0200
TZOFFSETTO:+0300
TZNAME:EEST
DTSTART:20220327T010000
END:DAYLIGHT
BEGIN:STANDARD
TZOFFSETFROM:+0300
TZOFFSETTO:+0200
TZNAME:EET
DTSTART:20221030T010000
END:STANDARD
BEGIN:DAYLIGHT
TZOFFSETFROM:+0200
TZOFFSETTO:+0300
TZNAME:EEST
DTSTART:20230326T010000
END:DAYLIGHT
BEGIN:STANDARD
TZOFFSETFROM:+0300
TZOFFSETTO:+0200
TZNAME:EET
DTSTART:20231029T010000
END:STANDARD
BEGIN:DAYLIGHT
TZOFFSETFROM:+0200
TZOFFSETTO:+0300
TZNAME:EEST
DTSTART:20240331T010000
END:DAYLIGHT
BEGIN:STANDARD
TZOFFSETFROM:+0300
TZOFFSETTO:+0200
TZNAME:EET
DTSTART:20241027T010000
END:STANDARD
END:VTIMEZONE
BEGIN:VEVENT
DTSTART;TZID=Europe/Helsinki:20230813T100000
DTEND;TZID=Europe/Helsinki:20230813T140000
DTSTAMP:20260419T202910
CREATED:20240606T184031Z
LAST-MODIFIED:20240606T184032Z
UID:10000023-1691920800-1691935200@sekkumine.mesinduskogu.ee
SUMMARY:Otepää Aianduse ja Mesinduse Seltsi teabepäev – 13.08.2023
DESCRIPTION:Otepää Aianduse ja Mesinduse Seltsi korraldusel toimub Sangaste Mesi mesilas\, Kimalase talus\, Lossiküla külas\, Valgamaal \n\n\n\nMeevõtu ja varroositõrje teabepäev \n\n\n\nTeabepäeval osalemiseks on vajalik eelregistreerimine 09. augustiks SIINLoengud on tasuta. Osalejate arv on piiratud. \n\n\n\n13.08.2023 \n\n\n\nPäevakava:10.00 – 10.15 Kogunemine ja tervituskohv10.15 – 11.15 Meekäitlemine ja teised mesindustegevused Sangaste Mesi OÜ mesila näitel Rein Männiste juhendamisel11.15 – 12.00 Arutelu meevõtust ja -käitlemisest modereerib Rein Männiste12.00 – 12.30 Energiapaus12.30 – 13.30 Varroosi tõrje ja mesilaste talvesöötmine Rein Männiste13.30 – 14.00 Arutelu varroosi ja talvesöötmise teemadel modereerib Rein Männiste \n\n\n\nInfo Liisa Ruukel tel 5285159 või Rein Männiste tel 5289331 \n\n\n\n\n\n\nVaated: 7
URL:https://sekkumine.mesinduskogu.ee/teabepaev/otepaa-aiandus-ja-mesindusseltsi-teabepaev-13-08-2023/
LOCATION:Sangaste mesi\, Sangaste Mesi\, Lossiküla\, Valgamaa\, Eesti
CATEGORIES:Piirkondlikud teabepäevad
ORGANIZER;CN="Otep%C3%A4%C3%A4 Aiandus- ja Mesindusselts":MAILTO:otepaa.ams@gmail.com
END:VEVENT
END:VCALENDAR